BEGIN:VCALENDAR
VERSION:2.0
PRODID:-//hacksw/handcal//NONSGML v1.0//EN
BEGIN:VEVENT
SUMMARY:Sortie Perf Thaurac
UID:d6bafff1-ad5b-4ec4-9030-ffe164dced28
DTSTART:20260613T073000Z
DTEND:20260613T153000Z
LOCATION:Localisation   
CATEGORIES:Sportif
STATUS:
URL;VALUE=URI:https://www.rocnpofgrimp.com/evenements/2026/06/13/sortie-perf-thaurac-2301519
END:VEVENT
END:VCALENDAR
